BEGIN:VCALENDAR
VERSION:2.0
PRODID:icalendar-ruby
CALSCALE:GREGORIAN
METHOD:PUBLISH
BEGIN:VEVENT
DTSTAMP:20260422T004206Z
UID:13-1399772@hopewellsc.com
DTSTART:20261101T230000Z
DTEND:20261102T000000Z
CLASS:PUBLIC
CREATED:20260421T203905
DESCRIPTION:Join us each week as we study the word of God
LAST-MODIFIED:20260421T203905
LOCATION:
SUMMARY:Sunday Night Bible Study 
URL;VALUE=URI:https://hopewellsc.com/events/sunday-night-bible-study/2026-1
 1-01
ATTACH;FILENAME=smallgroups-14.jpg;FMTTYPE=image/jpeg:https://dq5pwpg1q8ru0
 .cloudfront.net/2022/10/31/18/20/38/790debf1-61cd-40c5-a522-edd0a68f28e4/s
 mallgroups-14.jpg
END:VEVENT
END:VCALENDAR
