BEGIN:VCALENDAR
VERSION:2.0
PRODID:icalendar-ruby
CALSCALE:GREGORIAN
METHOD:PUBLISH
BEGIN:VEVENT
DTSTAMP:20260423T152415Z
UID:12-1407602@hopewellsc.com
DTSTART:20230205T150000Z
DTEND:20230205T160000Z
CLASS:PUBLIC
CREATED:20260423T103608
DESCRIPTION:Sunday School
LAST-MODIFIED:20260423T103608
LOCATION:
SUMMARY:Sunday School
URL;VALUE=URI:https://hopewellsc.com/events/sunday-school/2023-02-05
ATTACH;FILENAME=Ndx7.jpg;FMTTYPE=image/jpeg:https://dq5pwpg1q8ru0.cloudfron
 t.net/2022/11/01/16/09/34/ceedb7ad-f525-4b3c-9d68-4aae78294f2a/Ndx7.jpg
END:VEVENT
END:VCALENDAR
