BEGIN:VCALENDAR
VERSION:2.0
PRODID:icalendar-ruby
CALSCALE:GREGORIAN
METHOD:PUBLISH
BEGIN:VEVENT
DTSTAMP:20260425T134444Z
UID:12-1419124@hopewellsc.com
DTSTART:20261011T140000Z
DTEND:20261011T150000Z
CLASS:PUBLIC
CREATED:20260425T073439
DESCRIPTION:Sunday School
LAST-MODIFIED:20260425T073439
LOCATION:
SUMMARY:Sunday School
URL;VALUE=URI:https://hopewellsc.com/events/sunday-school/2026-10-11
ATTACH;FILENAME=Ndx7.jpg;FMTTYPE=image/jpeg:https://dq5pwpg1q8ru0.cloudfron
 t.net/2022/11/01/16/09/34/ceedb7ad-f525-4b3c-9d68-4aae78294f2a/Ndx7.jpg
END:VEVENT
END:VCALENDAR
