BEGIN:VCALENDAR
VERSION:2.0
PRODID:icalendar-ruby
CALSCALE:GREGORIAN
METHOD:PUBLISH
BEGIN:VEVENT
DTSTAMP:20260425T101738Z
UID:10-1417675@hopewellsc.com
DTSTART:20261004T150000Z
DTEND:20261004T160000Z
CLASS:PUBLIC
CREATED:20260424T214803
DESCRIPTION:Come and Join us as we worship our Lord and Savior Jesus Christ
LAST-MODIFIED:20260424T214803
LOCATION:
SUMMARY:Sunday Worship
URL;VALUE=URI:https://hopewellsc.com/events/sunday-worship/2026-10-04
ATTACH;FILENAME=i477.jpg;FMTTYPE=image/jpeg:https://dq5pwpg1q8ru0.cloudfron
 t.net/2022/10/31/17/22/43/7657beb8-4e2f-436a-a871-8460cdf02878/i477.jpg
END:VEVENT
END:VCALENDAR
