BEGIN:VCALENDAR
VERSION:2.0
PRODID:icalendar-ruby
CALSCALE:GREGORIAN
METHOD:PUBLISH
BEGIN:VEVENT
DTSTAMP:20260425T172756Z
UID:10-1420769@hopewellsc.com
DTSTART:20261101T160000Z
DTEND:20261101T170000Z
CLASS:PUBLIC
CREATED:20260425T125609
DESCRIPTION:Come and Join us as we worship our Lord and Savior Jesus Christ
LAST-MODIFIED:20260425T125609
LOCATION:
SUMMARY:Sunday Worship
URL;VALUE=URI:https://hopewellsc.com/events/sunday-worship/2026-11-01
ATTACH;FILENAME=i477.jpg;FMTTYPE=image/jpeg:https://dq5pwpg1q8ru0.cloudfron
 t.net/2022/10/31/17/22/43/7657beb8-4e2f-436a-a871-8460cdf02878/i477.jpg
END:VEVENT
END:VCALENDAR
