BEGIN:VCALENDAR
VERSION:2.0
PRODID:icalendar-ruby
CALSCALE:GREGORIAN
METHOD:PUBLISH
BEGIN:VEVENT
DTSTAMP:20260425T151440Z
UID:14-1420558@hopewellsc.com
DTSTART:20261014T223000Z
DTEND:20261014T233000Z
CLASS:PUBLIC
CREATED:20260425T101600
DESCRIPTION:Wednesday Night Bible Study
LAST-MODIFIED:20260425T101600
LOCATION:
SUMMARY:Wednesday Night Bible Study
URL;VALUE=URI:https://hopewellsc.com/events/wednesday-night-bible-study/202
 6-10-14
ATTACH;FILENAME=bible_crosses-28.jpg;FMTTYPE=image/jpeg:https://dq5pwpg1q8r
 u0.cloudfront.net/2022/10/31/18/18/11/abe99325-2e14-4425-a06e-e84a1a813c67
 /bible_crosses-28.jpg
END:VEVENT
END:VCALENDAR
