BEGIN:VCALENDAR
VERSION:2.0
PRODID:icalendar-ruby
CALSCALE:GREGORIAN
METHOD:PUBLISH
BEGIN:VEVENT
DTSTAMP:20260425T141733Z
UID:11-1419947@hopewellsc.com
DTSTART:20261021T223000Z
DTEND:20261021T233000Z
CLASS:PUBLIC
CREATED:20260425T101559
DESCRIPTION:Wednesday Night Kids
LAST-MODIFIED:20260425T101559
LOCATION:
SUMMARY:Wednesday Night Kids
URL;VALUE=URI:https://hopewellsc.com/events/wednesday-night-kids/2026-10-21
ATTACH;FILENAME=children-08.jpg;FMTTYPE=image/jpeg:https://dq5pwpg1q8ru0.cl
 oudfront.net/2022/10/31/18/19/17/9cb4b2b2-f9c1-42d8-89b4-6de638e26834/chil
 dren-08.jpg
END:VEVENT
END:VCALENDAR
